Package: GraphAT Version: 1.82.0 Maintainer: Thomas LaFramboise MaintainerEmail: tlaframb at hsph.harvard.edu git_url: https://git.bioconductor.org/packages/GraphAT git_branch: RELEASE_3_22 git_last_commit: 711f8ad git_last_commit_date: 2025-10-29 09:55:09 -0500 (Wed, 29 Oct 2025)