Package: GrafGen Version: 1.6.0 Command: /home/biocbuild/bbs-3.22-bioc/R/bin/R CMD INSTALL GrafGen StartedAt: 2025-11-09 15:16:11 -0500 (Sun, 09 Nov 2025) EndedAt: 2025-11-09 15:16:34 -0500 (Sun, 09 Nov 2025) EllapsedTime: 22.7 seconds RetCode: 0 Status: OK