Package: GrafGen Version: 1.6.0 Command: /home/biocbuild/bbs-3.22-bioc/R/bin/R CMD build --keep-empty-dirs --no-resave-data --md5 GrafGen StartedAt: 2025-11-09 18:02:36 -0500 (Sun, 09 Nov 2025) EndedAt: 2025-11-09 18:03:11 -0500 (Sun, 09 Nov 2025) EllapsedTime: 35.0 seconds RetCode: 0 Status: OK PackageFile: GrafGen_1.6.0.tar.gz PackageFileSize: 3.069 MiB