Package: GmicR Version: 1.24.0 Command: /home/biocbuild/bbs-3.22-bioc/R/bin/R CMD INSTALL GmicR StartedAt: 2025-11-06 15:44:24 -0500 (Thu, 06 Nov 2025) EndedAt: 2025-11-06 15:44:51 -0500 (Thu, 06 Nov 2025) EllapsedTime: 27.7 seconds RetCode: 0 Status: OK