Package: GmicR Version: 1.24.0 Command: /home/biocbuild/bbs-3.22-bioc/R/bin/R CMD build --keep-empty-dirs --no-resave-data --md5 GmicR StartedAt: 2025-11-06 17:54:51 -0500 (Thu, 06 Nov 2025) EndedAt: 2025-11-06 18:03:58 -0500 (Thu, 06 Nov 2025) EllapsedTime: 547.4 seconds RetCode: 0 Status: OK PackageFile: GmicR_1.24.0.tar.gz PackageFileSize: 3.487 MiB