Package: GeomxTools Version: 3.13.1 Command: /home/biocbuild/bbs-3.22-bioc/R/bin/R CMD INSTALL GeomxTools StartedAt: 2025-10-24 15:26:36 -0400 (Fri, 24 Oct 2025) EndedAt: 2025-10-24 15:27:02 -0400 (Fri, 24 Oct 2025) EllapsedTime: 25.7 seconds RetCode: 0 Status: OK