Package: GeomxTools Version: 3.14.0 Command: /Library/Frameworks/R.framework/Resources/bin/R CMD INSTALL GeomxTools StartedAt: 2025-11-03 15:22:55 -0500 (Mon, 03 Nov 2025) EndedAt: 2025-11-03 15:23:34 -0500 (Mon, 03 Nov 2025) EllapsedTime: 38.6 seconds RetCode: 0 Status: OK