Package: GeomxTools Version: 3.14.0 Command: rm -rf GeomxTools.buildbin-libdir && mkdir GeomxTools.buildbin-libdir && /Users/biocbuild/BBS/utils/build-universal.sh GeomxTools_3.14.0.tar.gz /Library/Frameworks/R.framework/Resources/bin/R GeomxTools.buildbin-libdir StartedAt: 2025-11-04 01:42:17 -0500 (Tue, 04 Nov 2025) EndedAt: 2025-11-04 01:43:03 -0500 (Tue, 04 Nov 2025) EllapsedTime: 46.3 seconds RetCode: 0 Status: OK PackageFile: GeomxTools_3.14.0.tgz PackageFileSize: 15.79 MiB