Package: GeomxTools Version: 3.13.1 Command: /Library/Frameworks/R.framework/Resources/bin/R CMD INSTALL GeomxTools StartedAt: 2025-10-26 15:08:40 -0400 (Sun, 26 Oct 2025) EndedAt: 2025-10-26 15:08:52 -0400 (Sun, 26 Oct 2025) EllapsedTime: 11.4 seconds RetCode: 0 Status: OK