Package: GeomxTools Version: 3.13.1 Command: /Library/Frameworks/R.framework/Resources/bin/R CMD build --keep-empty-dirs --no-resave-data GeomxTools StartedAt: 2025-10-26 16:36:21 -0400 (Sun, 26 Oct 2025) EndedAt: 2025-10-26 16:38:23 -0400 (Sun, 26 Oct 2025) EllapsedTime: 122.3 seconds RetCode: 0 Status: OK PackageFile: GeomxTools_3.13.1.tar.gz PackageFileSize: 17.04 MiB