Package: GeoTcgaData Version: 2.10.0 Command: /Library/Frameworks/R.framework/Resources/bin/R CMD INSTALL GeoTcgaData StartedAt: 2025-11-10 15:11:46 -0500 (Mon, 10 Nov 2025) EndedAt: 2025-11-10 15:12:03 -0500 (Mon, 10 Nov 2025) EllapsedTime: 17.1 seconds RetCode: 0 Status: OK