Package: GeoTcgaData Version: 2.10.0 Command: /Library/Frameworks/R.framework/Resources/bin/R CMD build --keep-empty-dirs --no-resave-data GeoTcgaData StartedAt: 2025-11-10 16:31:42 -0500 (Mon, 10 Nov 2025) EndedAt: 2025-11-10 16:32:13 -0500 (Mon, 10 Nov 2025) EllapsedTime: 31.3 seconds RetCode: 0 Status: OK PackageFile: GeoTcgaData_2.10.0.tar.gz PackageFileSize: 3.318 MiB