Package: GeoTcgaData Version: 2.10.0 Command: rm -rf GeoTcgaData.buildbin-libdir && mkdir GeoTcgaData.buildbin-libdir && /Users/biocbuild/BBS/utils/build-universal.sh GeoTcgaData_2.10.0.tar.gz /Library/Frameworks/R.framework/Resources/bin/R GeoTcgaData.buildbin-libdir StartedAt: 2025-11-10 23:21:46 -0500 (Mon, 10 Nov 2025) EndedAt: 2025-11-10 23:22:04 -0500 (Mon, 10 Nov 2025) EllapsedTime: 18.3 seconds RetCode: 0 Status: OK PackageFile: GeoTcgaData_2.10.0.tgz PackageFileSize: 3.426 MiB