Package: GeoTcgaData Version: 2.10.0 Command: /Library/Frameworks/R.framework/Resources/bin/R CMD INSTALL GeoTcgaData StartedAt: 2025-11-24 16:13:48 -0500 (Mon, 24 Nov 2025) EndedAt: 2025-11-24 16:14:37 -0500 (Mon, 24 Nov 2025) EllapsedTime: 48.6 seconds RetCode: 0 Status: OK