Package: GeoTcgaData Version: 2.10.0 Command: /Library/Frameworks/R.framework/Resources/bin/R CMD build --keep-empty-dirs --no-resave-data GeoTcgaData StartedAt: 2025-11-25 01:13:07 -0500 (Tue, 25 Nov 2025) EndedAt: 2025-11-25 01:14:37 -0500 (Tue, 25 Nov 2025) EllapsedTime: 90.3 seconds RetCode: 0 Status: OK PackageFile: GeoTcgaData_2.10.0.tar.gz PackageFileSize: 3.318 MiB