Package: GeoTcgaData Version: 2.10.0 Command: rm -rf GeoTcgaData.buildbin-libdir && mkdir GeoTcgaData.buildbin-libdir && /Users/biocbuild/BBS/utils/build-universal.sh GeoTcgaData_2.10.0.tar.gz /Library/Frameworks/R.framework/Resources/bin/R GeoTcgaData.buildbin-libdir StartedAt: 2025-11-23 08:55:03 -0500 (Sun, 23 Nov 2025) EndedAt: 2025-11-23 08:56:22 -0500 (Sun, 23 Nov 2025) EllapsedTime: 78.8 seconds RetCode: 0 Status: OK PackageFile: GeoTcgaData_2.10.0.tgz PackageFileSize: 3.428 MiB