Package: GeoDiff Version: 1.16.0 Command: /Library/Frameworks/R.framework/Resources/bin/R CMD build --keep-empty-dirs --no-resave-data GeoDiff StartedAt: 2025-11-20 20:22:18 -0500 (Thu, 20 Nov 2025) EndedAt: 2025-11-20 20:31:33 -0500 (Thu, 20 Nov 2025) EllapsedTime: 554.9 seconds RetCode: 0 Status: OK PackageFile: GeoDiff_1.16.0.tar.gz PackageFileSize: 4.58 MiB