Package: GeoDiff Version: 1.16.0 Command: /Library/Frameworks/R.framework/Resources/bin/R CMD build --keep-empty-dirs --no-resave-data GeoDiff StartedAt: 2025-11-02 17:13:32 -0500 (Sun, 02 Nov 2025) EndedAt: 2025-11-02 17:17:49 -0500 (Sun, 02 Nov 2025) EllapsedTime: 256.9 seconds RetCode: 0 Status: OK PackageFile: GeoDiff_1.16.0.tar.gz PackageFileSize: 4.581 MiB