Package: GeoDiff Version: 1.15.0 Command: /Library/Frameworks/R.framework/Resources/bin/R CMD INSTALL GeoDiff StartedAt: 2025-10-26 15:08:55 -0400 (Sun, 26 Oct 2025) EndedAt: 2025-10-26 15:09:20 -0400 (Sun, 26 Oct 2025) EllapsedTime: 24.9 seconds RetCode: 0 Status: OK