Package: GeoDiff Version: 1.15.0 Command: /Library/Frameworks/R.framework/Resources/bin/R CMD build --keep-empty-dirs --no-resave-data GeoDiff StartedAt: 2025-10-26 16:35:53 -0400 (Sun, 26 Oct 2025) EndedAt: 2025-10-26 16:37:09 -0400 (Sun, 26 Oct 2025) EllapsedTime: 76.8 seconds RetCode: 0 Status: OK PackageFile: GeoDiff_1.15.0.tar.gz PackageFileSize: 4.58 MiB