Package: GeoDiff Version: 1.16.0 Command: /Library/Frameworks/R.framework/Resources/bin/R CMD INSTALL GeoDiff StartedAt: 2025-11-17 17:16:31 -0500 (Mon, 17 Nov 2025) EndedAt: 2025-11-17 17:16:58 -0500 (Mon, 17 Nov 2025) EllapsedTime: 26.7 seconds RetCode: 0 Status: OK