Package: GeoDiff Version: 1.16.0 Command: /Library/Frameworks/R.framework/Resources/bin/R CMD build --keep-empty-dirs --no-resave-data GeoDiff StartedAt: 2025-11-17 21:29:25 -0500 (Mon, 17 Nov 2025) EndedAt: 2025-11-17 21:30:56 -0500 (Mon, 17 Nov 2025) EllapsedTime: 91.0 seconds RetCode: 0 Status: OK PackageFile: GeoDiff_1.16.0.tar.gz PackageFileSize: 4.582 MiB