Package: GeoDiff Version: 1.16.0 Maintainer: Nicole Ortogero MaintainerEmail: nortogero at nanostring.com git_url: https://git.bioconductor.org/packages/GeoDiff git_branch: RELEASE_3_22 git_last_commit: 0185ce6 git_last_commit_date: 2025-10-29 11:13:32 -0500 (Wed, 29 Oct 2025)