Package: GenomicRanges Version: 1.62.0 Command: /home/biocbuild/bbs-3.22-bioc/R/bin/R CMD INSTALL GenomicRanges StartedAt: 2025-11-16 15:15:33 -0500 (Sun, 16 Nov 2025) EndedAt: 2025-11-16 15:15:53 -0500 (Sun, 16 Nov 2025) EllapsedTime: 19.7 seconds RetCode: 0 Status: OK