Package: GenomicRanges Version: 1.62.0 Command: /home/biocbuild/bbs-3.22-bioc/R/bin/R CMD build --keep-empty-dirs --no-resave-data --md5 GenomicRanges StartedAt: 2025-11-16 17:55:32 -0500 (Sun, 16 Nov 2025) EndedAt: 2025-11-16 17:58:19 -0500 (Sun, 16 Nov 2025) EllapsedTime: 167.1 seconds RetCode: 0 Status: OK PackageFile: GenomicRanges_1.62.0.tar.gz PackageFileSize: 1.312 MiB