############################################################################## ############################################################################## ### ### Running command: ### ### /home/biocbuild/bbs-3.22-bioc/R/bin/R CMD build --keep-empty-dirs --no-resave-data --md5 GenomicPlot ### ############################################################################## ############################################################################## * checking for file ‘GenomicPlot/DESCRIPTION’ ... OK * preparing ‘GenomicPlot’: * checking DESCRIPTION meta-information ... OK * installing the package to build vignettes ----------------------------------- * installing *source* package ‘GenomicPlot’ ... ** this is package ‘GenomicPlot’ version ‘1.8.0’ ** using staged installation ** R ** data ** inst ** byte-compile and prepare package for lazy loading Warning: replacing previous import ‘Biostrings::pattern’ by ‘grid::pattern’ when loading ‘genomation’ Error: object ‘filter’ is not exported by 'namespace:plyranges' Execution halted ERROR: lazy loading failed for package ‘GenomicPlot’ * removing ‘/tmp/RtmpiqiKVR/Rinst2e8db93ecea39c/GenomicPlot’ ----------------------------------- ERROR: package installation failed