Package: GenomicInteractionNodes Version: 1.14.0 Command: /Library/Frameworks/R.framework/Resources/bin/R CMD build --keep-empty-dirs --no-resave-data GenomicInteractionNodes StartedAt: 2025-11-10 16:30:15 -0500 (Mon, 10 Nov 2025) EndedAt: 2025-11-10 16:31:02 -0500 (Mon, 10 Nov 2025) EllapsedTime: 47.5 seconds RetCode: 0 Status: OK PackageFile: GenomicInteractionNodes_1.14.0.tar.gz PackageFileSize: 248.4 KiB