Package: GenomicFiles Version: 1.45.2 Command: /home/biocbuild/bbs-3.22-bioc/R/bin/R CMD INSTALL GenomicFiles StartedAt: 2025-10-28 15:54:25 -0400 (Tue, 28 Oct 2025) EndedAt: 2025-10-28 15:55:09 -0400 (Tue, 28 Oct 2025) EllapsedTime: 43.6 seconds RetCode: 0 Status: OK