Package: GenomicFeatures Version: 1.61.7 Command: /home/biocbuild/bbs-3.22-bioc/R/bin/R CMD build --keep-empty-dirs --no-resave-data --md5 GenomicFeatures StartedAt: 2025-10-24 17:57:17 -0400 (Fri, 24 Oct 2025) EndedAt: 2025-10-24 17:59:12 -0400 (Fri, 24 Oct 2025) EllapsedTime: 115.1 seconds RetCode: 0 Status: OK PackageFile: GenomicFeatures_1.61.7.tar.gz PackageFileSize: 561.1 KiB