Package: GenomicDistributions Version: 1.18.0 Command: /Library/Frameworks/R.framework/Resources/bin/R CMD INSTALL GenomicDistributions StartedAt: 2025-11-03 15:22:25 -0500 (Mon, 03 Nov 2025) EndedAt: 2025-11-03 15:22:47 -0500 (Mon, 03 Nov 2025) EllapsedTime: 22.0 seconds RetCode: 0 Status: OK