Package: GenomicDistributions Version: 1.18.0 Command: /Library/Frameworks/R.framework/Resources/bin/R CMD build --keep-empty-dirs --no-resave-data GenomicDistributions StartedAt: 2025-11-03 17:08:31 -0500 (Mon, 03 Nov 2025) EndedAt: 2025-11-03 17:09:50 -0500 (Mon, 03 Nov 2025) EllapsedTime: 78.8 seconds RetCode: 0 Status: OK PackageFile: GenomicDistributions_1.18.0.tar.gz PackageFileSize: 5.948 MiB