Package: GenomicDistributions Version: 1.18.0 Command: rm -rf GenomicDistributions.buildbin-libdir && mkdir GenomicDistributions.buildbin-libdir && /Users/biocbuild/BBS/utils/build-universal.sh GenomicDistributions_1.18.0.tar.gz /Library/Frameworks/R.framework/Resources/bin/R GenomicDistributions.buildbin-libdir StartedAt: 2025-11-04 01:42:00 -0500 (Tue, 04 Nov 2025) EndedAt: 2025-11-04 01:42:27 -0500 (Tue, 04 Nov 2025) EllapsedTime: 27.1 seconds RetCode: 0 Status: OK PackageFile: GenomicDistributions_1.18.0.tgz PackageFileSize: 5.647 MiB