Package: GenomicDistributions Version: 1.18.0 Command: /Library/Frameworks/R.framework/Resources/bin/R CMD INSTALL GenomicDistributions StartedAt: 2025-10-31 15:14:24 -0400 (Fri, 31 Oct 2025) EndedAt: 2025-10-31 15:14:30 -0400 (Fri, 31 Oct 2025) EllapsedTime: 6.5 seconds RetCode: 0 Status: OK