Package: GenomicDistributions Version: 1.18.0 Command: /Library/Frameworks/R.framework/Resources/bin/R CMD build --keep-empty-dirs --no-resave-data GenomicDistributions StartedAt: 2025-11-02 16:29:40 -0500 (Sun, 02 Nov 2025) EndedAt: 2025-11-02 16:30:07 -0500 (Sun, 02 Nov 2025) EllapsedTime: 27.3 seconds RetCode: 0 Status: OK PackageFile: GenomicDistributions_1.18.0.tar.gz PackageFileSize: 5.952 MiB