Package: GenomicDistributions Version: 1.18.0 Command: rm -rf GenomicDistributions.buildbin-libdir && mkdir GenomicDistributions.buildbin-libdir && /Users/biocbuild/BBS/utils/build-universal.sh GenomicDistributions_1.18.0.tar.gz /Library/Frameworks/R.framework/Resources/bin/R GenomicDistributions.buildbin-libdir StartedAt: 2025-10-31 23:08:22 -0400 (Fri, 31 Oct 2025) EndedAt: 2025-10-31 23:08:30 -0400 (Fri, 31 Oct 2025) EllapsedTime: 8.1 seconds RetCode: 0 Status: OK PackageFile: GenomicDistributions_1.18.0.tgz PackageFileSize: 5.653 MiB