Package: GenomicDataCommons Version: 1.33.1 Command: /home/biocbuild/bbs-3.22-bioc/R/bin/R CMD build --keep-empty-dirs --no-resave-data --md5 GenomicDataCommons StartedAt: 2025-10-27 17:48:24 -0400 (Mon, 27 Oct 2025) EndedAt: 2025-10-27 17:49:35 -0400 (Mon, 27 Oct 2025) EllapsedTime: 71.0 seconds RetCode: 0 Status: OK PackageFile: GenomicDataCommons_1.33.1.tar.gz PackageFileSize: 2.658 MiB