Package: GenomicDataCommons Version: 1.34.0 Command: /Library/Frameworks/R.framework/Resources/bin/R CMD INSTALL GenomicDataCommons StartedAt: 2025-11-03 15:21:57 -0500 (Mon, 03 Nov 2025) EndedAt: 2025-11-03 15:22:18 -0500 (Mon, 03 Nov 2025) EllapsedTime: 20.7 seconds RetCode: 0 Status: OK