Package: GenomicDataCommons Version: 1.34.0 Command: rm -rf GenomicDataCommons.buildbin-libdir && mkdir GenomicDataCommons.buildbin-libdir && /Users/biocbuild/BBS/utils/build-universal.sh GenomicDataCommons_1.34.0.tar.gz /Library/Frameworks/R.framework/Resources/bin/R GenomicDataCommons.buildbin-libdir StartedAt: 2025-11-04 01:41:56 -0500 (Tue, 04 Nov 2025) EndedAt: 2025-11-04 01:42:17 -0500 (Tue, 04 Nov 2025) EllapsedTime: 20.5 seconds RetCode: 0 Status: OK PackageFile: GenomicDataCommons_1.34.0.tgz PackageFileSize: 2.015 MiB