Package: GenomicDataCommons Version: 1.34.0 Command: /Library/Frameworks/R.framework/Resources/bin/R CMD INSTALL GenomicDataCommons StartedAt: 2025-10-31 15:14:46 -0400 (Fri, 31 Oct 2025) EndedAt: 2025-10-31 15:14:51 -0400 (Fri, 31 Oct 2025) EllapsedTime: 5.1 seconds RetCode: 0 Status: OK