Package: GenomicAlignments Version: 1.45.5 Command: /home/biocbuild/bbs-3.22-bioc/R/bin/R CMD INSTALL GenomicAlignments StartedAt: 2025-10-28 15:24:15 -0400 (Tue, 28 Oct 2025) EndedAt: 2025-10-28 15:24:49 -0400 (Tue, 28 Oct 2025) EllapsedTime: 34.5 seconds RetCode: 0 Status: OK