Package: GenomicAlignments Version: 1.45.5 Command: /home/biocbuild/bbs-3.22-bioc/R/bin/R CMD build --keep-empty-dirs --no-resave-data --md5 GenomicAlignments StartedAt: 2025-10-28 17:46:37 -0400 (Tue, 28 Oct 2025) EndedAt: 2025-10-28 17:48:12 -0400 (Tue, 28 Oct 2025) EllapsedTime: 95.1 seconds RetCode: 0 Status: OK PackageFile: GenomicAlignments_1.45.5.tar.gz PackageFileSize: 2.156 MiB