Package: GenomicAlignments Version: 1.46.0 Command: /Library/Frameworks/R.framework/Resources/bin/R CMD build --keep-empty-dirs --no-resave-data GenomicAlignments StartedAt: 2025-11-03 17:08:24 -0500 (Mon, 03 Nov 2025) EndedAt: 2025-11-03 17:10:27 -0500 (Mon, 03 Nov 2025) EllapsedTime: 122.2 seconds RetCode: 0 Status: OK PackageFile: GenomicAlignments_1.46.0.tar.gz PackageFileSize: 2.149 MiB