Package: GenomicAlignments Version: 1.46.0 Command: rm -rf GenomicAlignments.buildbin-libdir && mkdir GenomicAlignments.buildbin-libdir && /Users/biocbuild/BBS/utils/build-universal.sh GenomicAlignments_1.46.0.tar.gz /Library/Frameworks/R.framework/Resources/bin/R GenomicAlignments.buildbin-libdir StartedAt: 2025-11-04 01:41:56 -0500 (Tue, 04 Nov 2025) EndedAt: 2025-11-04 01:42:53 -0500 (Tue, 04 Nov 2025) EllapsedTime: 56.6 seconds RetCode: 0 Status: OK PackageFile: GenomicAlignments_1.46.0.tgz PackageFileSize: 2.239 MiB