Package: GenomicAlignments Version: 1.45.5 Command: /Library/Frameworks/R.framework/Resources/bin/R CMD INSTALL GenomicAlignments StartedAt: 2025-10-27 15:15:24 -0400 (Mon, 27 Oct 2025) EndedAt: 2025-10-27 15:15:37 -0400 (Mon, 27 Oct 2025) EllapsedTime: 13.4 seconds RetCode: 0 Status: OK