Package: GenomicAlignments Version: 1.45.5 Command: rm -rf GenomicAlignments.buildbin-libdir && mkdir GenomicAlignments.buildbin-libdir && /Users/biocbuild/BBS/utils/build-universal.sh GenomicAlignments_1.45.5.tar.gz /Library/Frameworks/R.framework/Resources/bin/R GenomicAlignments.buildbin-libdir StartedAt: 2025-10-27 23:03:45 -0400 (Mon, 27 Oct 2025) EndedAt: 2025-10-27 23:04:00 -0400 (Mon, 27 Oct 2025) EllapsedTime: 15.2 seconds RetCode: 0 Status: OK PackageFile: GenomicAlignments_1.45.5.tgz PackageFileSize: 2.244 MiB