Package: GenomicAlignments Version: 1.46.0 Maintainer: Hervé Pagès MaintainerEmail: hpages.on.github at gmail.com git_url: https://git.bioconductor.org/packages/GenomicAlignments git_branch: RELEASE_3_22 git_last_commit: 4bd0167 git_last_commit_date: 2025-10-29 13:50:18 -0500 (Wed, 29 Oct 2025)