Package: GenomAutomorphism Version: 1.12.0 Command: /home/biocbuild/bbs-3.22-bioc/R/bin/R CMD INSTALL GenomAutomorphism StartedAt: 2025-10-31 15:23:54 -0400 (Fri, 31 Oct 2025) EndedAt: 2025-10-31 15:24:17 -0400 (Fri, 31 Oct 2025) EllapsedTime: 23.4 seconds RetCode: 0 Status: OK