Package: GenomAutomorphism Version: 1.12.0 Command: /home/biocbuild/bbs-3.22-bioc/R/bin/R CMD build --keep-empty-dirs --no-resave-data --md5 GenomAutomorphism StartedAt: 2025-11-03 17:49:32 -0500 (Mon, 03 Nov 2025) EndedAt: 2025-11-03 17:50:57 -0500 (Mon, 03 Nov 2025) EllapsedTime: 85.1 seconds RetCode: 0 Status: OK PackageFile: GenomAutomorphism_1.12.0.tar.gz PackageFileSize: 1.421 MiB