Package: GeneticsPed Version: 1.72.0 Command: /home/biocbuild/bbs-3.22-bioc/R/bin/R CMD build --keep-empty-dirs --no-resave-data --md5 GeneticsPed StartedAt: 2025-11-25 18:14:28 -0500 (Tue, 25 Nov 2025) EndedAt: 2025-11-25 18:14:52 -0500 (Tue, 25 Nov 2025) EllapsedTime: 24.0 seconds RetCode: 0 Status: OK PackageFile: GeneticsPed_1.72.0.tar.gz PackageFileSize: 675.5 KiB