Package: GeneStructureTools Version: 1.29.0 Command: rm -rf GeneStructureTools.buildbin-libdir && mkdir GeneStructureTools.buildbin-libdir && /Users/biocbuild/BBS/utils/build-universal.sh GeneStructureTools_1.29.0.tar.gz /Library/Frameworks/R.framework/Resources/bin/R GeneStructureTools.buildbin-libdir StartedAt: 2025-10-24 23:04:10 -0400 (Fri, 24 Oct 2025) EndedAt: 2025-10-24 23:04:34 -0400 (Fri, 24 Oct 2025) EllapsedTime: 23.5 seconds RetCode: 0 Status: OK PackageFile: GeneStructureTools_1.29.0.tgz PackageFileSize: 2.356 MiB